BEGIN:VCALENDAR
VERSION:2.0
PRODID:-//www.muenchenbuchsee.ch//NONSGML kigkonsult.se ICALCREATOR_VERSION
 //
CALSCALE:GREGORIAN
METHOD:PUBLISH
X-WR-TIMEZONE','EUROPE/BERLIN:
BEGIN:VEVENT
UID:20260421T110542CEST-7423VieFlC@www.muenchenbuchsee.ch
DTSTAMP:20260421T090542Z
DESCRIPTION:Klicken Sie auf den folgenden Link\, um weitere Informationen z
 ur Veranstaltung zu erhalten:\nhttp://www.muenchenbuchsee.ch/de/veranstalt
 ungen/detail/detail.php?i=774
DTSTART:20260328T133000
DTEND:20260328T160000
LOCATION:Musikschule
SUMMARY:Tag der offenen Türe
END:VEVENT
END:VCALENDAR
