BEGIN:VCALENDAR
VERSION:2.0
PRODID:-//www.muenchenbuchsee.ch//NONSGML kigkonsult.se ICALCREATOR_VERSION
 //
CALSCALE:GREGORIAN
METHOD:PUBLISH
X-WR-TIMEZONE','EUROPE/BERLIN:
BEGIN:VEVENT
UID:20260421T104803CEST-4925Uw34C6@www.muenchenbuchsee.ch
DTSTAMP:20260421T084803Z
DESCRIPTION:Klicken Sie auf den folgenden Link\, um weitere Informationen z
 ur Veranstaltung zu erhalten:\nhttp://www.muenchenbuchsee.ch/de/veranstalt
 ungen/detail/detail.php?i=722
DTSTART:20260321T200000
DTEND:20260321T220000
LOCATION:Saalanlage Münchenbuchsee
SUMMARY:Jahreskonzert Harmonie Münchenbuchsee
END:VEVENT
END:VCALENDAR
